BEGIN:VCALENDAR
VERSION:2.0
PRODID:-//wp-events-plugin.com//7.2.3.1//EN
BEGIN:VEVENT
UID:91@hgv-wiesental.de
DTSTART:20260329T120000Z
DTEND:20260329T170000Z
DTSTAMP:20260328T133757Z
URL:https://www.hgv-wiesental.de/veranstaltungen/verkaufsoffener-sonntag-2
 026/
SUMMARY:Verkaufsoffener Sonntag 2026
DESCRIPTION:&nbsp\;\n\n\n\n&nbsp\;\n\nLiebe Kundinnen und Kunden\, liebe B
 ürgerinnen und Bürger!\n\n„Überraschung pur“ unter dieses Motto hab
 en wir den verkaufsoffenen Sonntag am 29.03.2026 in Wiesental gestellt.\n\
 nAls Überraschungsgast präsentieren wir Ihnen Agata Marinacci. Ihre Stim
 me\, wird Sie sofort in den Bann ziehen.\n\nAgata Marinacci ist eine Säng
 erin mit italienischen Wurzeln\, die in Waghäusel-Wiesental aufgewachsen 
 ist. Pop\, italienische Lieder und Coversongs aus verschiedenen Genres geh
 ören ebenso zu Ihrem Repertoire wie ihre eigenen Lieder\, die sie uns pr
 äsentieren wird.\n\nAgata tritt deutschland- und europaweit bei verschied
 enen Veranstaltungen auf und ist dabei für ihre emotionalen und berühren
 den Performances bekannt. Mit ihren Konzerten erobert Sie im Moment Europ
 a und freut sich auf eine wachsende Fan-Familie.\n\nBei unserem zweiten Ho
 tspot in der Kirchstraße bleibt es musikalisch mit der Band der Gemeinsch
 aftsschule Waghäusel und den Zumba-Kids aus dem Fitnesscenter Belle.\n\nF
 ür unsere jungen Besucher wird die Kerwe wie immer ein Anziehungspunkt se
 in und auf der Mannheimer Straße wird Clown Julchen ganz sicher die volle
  Aufmerksamkeit der Kinder auf sich ziehen.\n\nDas Maskottchen des Handwer
 k- und Gewerbevereins Wiesental\, der Wissädalä Sandhas wird präsent se
 in und auf der gleichnamigen WEB-Seite www.sandhas.de finden Sie aktuelle 
 Informationen über alle Aktionen.\n\nPeter Bonsch\n\n1. Vorsitzender\nHan
 dwerk- und Gewerbeverein Wiesental e.V.\n\n\n\nHier ein Überblick über u
 nsere Angebote und Aktionen am verkaufsoffenen Sonntag\nMusik\n Agata Mari
 nacci\n\n\nAls Überraschungsgast begrüßen wir die außergewöhnliche S
 ängerin Agata Marinacci.\n\nMit ihrer ausdrucksstarken Stimme zieht sie i
 hr Publikum vom ersten Ton an in den Bann. Agata Marinacci\, in Waghäusel
 -Wiesental aufgewachsen und geprägt von italienischen Wurzeln\, begeister
 t mit einer beeindruckenden musikalischen Vielfalt – von Pop über itali
 enische Songs bis hin zu klassischen Stücken und gefühlvollen Coverversi
 onen verschiedenster Genres.\n\nOb in Deutschland oder auf europäischen B
 ühnen: Agata ist für ihre emotionalen\, berührenden Performances bekann
 t. Mit ihren aktuellen Konzerten erobert sie derzeit Europa und baut sich 
 eine stetig wachsende Fan-Familie auf.\n\nIhre Stimme versteht es\, Emotio
 nen spürbar zu machen – mal kraftvoll\, mal sanft\, aber immer authenti
 sch.\nFreuen Sie sich auf einen unvergesslichen musikalischen Moment\, der
  diesen verkaufsoffenen Sonntag zu etwas ganz Besonderem macht.\n\n\n\nGem
 einschaftsschule Schülerband\nAuch die Schüler der Gemeinschaftsschule s
 treben mit ihrer hauseigenen Band auf die Bretter\, die die Welt bedeuten.
 \n\nZu hören und zu sehen ist die Schülerband am verkaufsoffenen Sonntag
  in der Kirchstraße.\n\n\n\nAktionen\n&nbsp\;\n1. Oldtimer-Club Waghäuse
 l\n\n\n\n\nKerwe\nFrühlingsfest in Wiesental\n\n\n\n\n\nFeuerwehr\n&#x1f6
 92\; Technik zum Anfassen! &#x1f692\;\n\nDie Feuerwehr lädt die Bevölker
 ung herzlich ein\, einen spannenden Blick hinter die Kulissen unserer Arbe
 it zu werfen!\n\nErleben Sie hautnah unsere neuen Einsatzfahrzeuge:\n&#x1f
 525\; den neuen digital ausgestatteten Einsatzleitwagen\n&#x1f525\; den Ge
 rätewagen Logistik 1 mit dem Schwerpunkt Einsatzstellenhygiene für unser
 e Einsatzkräfte\n&#x1f525\; den Gerätewagen 2 mit über 2000 m Schlauch\
 n&#x1f525\; sowie unseren neuen Unimog als Tanklöschfahrzeug für Wald- u
 nd Flächenbrände\n\nUnsere Feuerwehrkameradinnen und -kameraden stellen 
 Ihnen die Fahrzeuge und ihre moderne Technik vor und beantworten gerne Ihr
 e Fragen rund um Einsätze\, Ausrüstung und Feuerwehrarbeit.\n\nAuch der 
 Förderverein der Feuerwehr präsentiert sich und informiert über seine w
 ichtige Unterstützung unserer Arbeit.\n\nKommen Sie vorbei\, schauen Sie 
 sich alles aus nächster Nähe an und erleben Sie Feuerwehrtechnik live!\n
 \nWir freuen uns auf Ihren Besuch! &#x1f692\;\n\n\n\n\nKunst-Ausstellung\n
 Mannheimer Straße 7\nHedwig Schuhmacher\n\n\nKünstlerische Werke:  Acry
 lbilder   Metallobjekte    Sandstein Skulpturen    Wandmosaikarbeite
 n   Installationen \n\n"Kreativität ist der Fluss\, der das Leben zum 
 Leuchten bringt“. Kreativität in jeder Art ist ein bestimmter Faktor i
 n meinem Leben. Eine Lebensphilosophie die mich von Kindheit an leitet und
  führt.\n\nDa bietet die Kunst eine Plattform meine Ideen\, Perspektiven\
 , Visionen Form und Ausdruck zu verleihen. Die eigene Kreativität zu Leb
 en im künstlerischen Schaffen\, das Entstehen eines Kunstwerks\, ist für
  mich ein glückliches  Gefühlserlebnis\, tiefster Ausdruck der Seele. 
 Eine positive Lebenseinstellung\, Emotionen und die damit verbundene  ene
 rgetische Kraft in mir\, spiegeln sich in meinen vielfältigen  Kunstwerk
 en.\nMargit Berger\n\n\nMit meiner meist abstrakten Malerei und dreidimens
 ionalen Steinbildhauerei\, Steinguss und Bronzeplastik  möchte ich dem A
 usdruck geben\, was mich begeistert und bewegt\;  meine Stimmungen\, mein
 e Spontanität\, meine Ideen.\n\n\n\nAktion für Kids\nClown Julchen\n\n&n
 bsp\;\n\nHinter dem Namen Clown Julchen steht ein kreatives und herzlich
 es Familien-Team. Wir – das sind Clown Julchen (Julia Hartmann)\, Clow
 n Biene (Nadine Hartmann) und Rudi (Rudolf Hartmann) – teilen die gem
 einsame Leidenschaft für Zauberei\, Spaß und unvergessliche Momente.\n\n
 &nbsp\;\n\n&nbsp\;\n\n&nbsp\;\n\n&nbsp\;\n\n&nbsp\;\n\n&nbsp\;\n\n&nbsp\;\
 n\n&nbsp\;\n\n\n\nZumba Kids Live Vorführung Fitness-Center Belle\nZumba-
 Kids Präsentation 15.00 Uhr\nKinderschminken\n\n\n\n\n\nKulinarisches\nAu
 f dem Parkplatz in der Mannheimer Straße\, direkt neben der Showbühne k
 önnen Sie sich verwöhnen lassen\, mit Flammkuchen\, Bigos\, ausgesuchten
  Weinen und vielem mehr.\n\nDarüber hinaus gibt des bei Onkel Mo alles in
  Bio und gegenüber bietet der Kindergarten Wiesenwichtel leckere Kuchen a
 n. Waffeln\, Slush-Eis  und andere süße Sachen finden Sie beim unserem 
 Hotspot in der Kirchstraße.\nFlammkuchenwerk\n\n\nDas Flammkuchenwerk –
  gegründet von Luca und Paul aus purer Leidenschaft für gutes Essen – 
 bringt Ende März zum verkaufsoffenen Sonntag frische\, hochwertige Flammk
 uchen nach Wiesental.\n\nOb klassisch\, süß oder außergewöhnlich – b
 ei uns steht die pure Leidenschaft für Qualität und Geschmack im Mittelp
 unkt. Jeder Flammkuchen wird mit viel Liebe und den besten Zutaten frisch 
 zubereitet. Lassen Sie sich begeistern von kreativen Kreationen\, die Sie 
 garantiert so noch nicht probiert haben\n\nKommen Sie vorbei\, probieren S
 ie sich durch unser Sortiment und entdecken Sie\, wie vielseitig Flammkuch
 en sein kann.\n\n&nbsp\;\n\n&nbsp\;\n\n\n\nOnkel Mo\nUnser Angebot am verk
 aufsoffenen Sonntag.\n\nEssen:\n- leckere frisch gebackene Waffeln\n- Kart
 offeln mit Frühlingsquark\n\nTrinken:\n- spritziger Hugo\n- Sekt\n- Bier\
 n- verschiedene Saftschorlen\n\nAlles wie immer in bester Bioqualität\n\n
 \n\nGeschmackshütte\n\n\nBigos mit Weck\,  Bratwurst im Weck\,  Spießb
 raten im Weck\,  Frikadelle im Weck\nund Getränke\n\n\n\nVinomobil\n\nWi
 r sind das „vinomobil“\nEine mobile Weinbar mit Charme und Charakter. 
 Ein umgebauter Pferdeanhänger\, der dazu einlädt\, auf ein Glas Wein zu 
 verweilen.\n\nWir\, das sind Kerstin und Reiner Berghöfer aus Karlsdorf-N
 euthard. Wir haben uns den Traum von einer eigenen kleinen Weinbar erfüll
 t und möchten Ihnen\, unseren Gästen\, mit ganz viel Herzblut und Leiden
 schaft die Faszination Wein nahebringen.\n\nDie Qualität der Produkte ste
 ht an erster Stelle. Wir arbeiten mit regionalen Winzern zusammen\, die wi
 r alle persönlich kennen und schätzen. Sie finden bei uns ausgewählte S
 ecco\, Sekt und Weine der Weingüter Bosch und Klenert aus dem Kraichgau\,
  Bioweingut Martin aus Insheim (Pfalz)\, Weingut Fritz Walter aus Niederho
 rbach (Pfalz) und einzelne internationale Tropfen.\n\nErgänzt wird das An
 gebot durch alkoholfreie Produkte: Winzersekt Rosé von Teamwerk Esslingen
 \, Klenert V und natürlich Mineralwasser.\n\nBesuchen Sie uns beim verkau
 fsoffenen Sonntag in Wiesental und überzeugen Sie sich selbst! Wir freuen
  uns auf Sie.\n\n\n\nHeil2O\nSlush Eis\nSlush (oft auch Slush-Eis oder Slu
 shy) ist ein halbgefrorenes Getränk aus zerstoßenem Eis und aromatisiert
 em Sirup.\nEs ist besonders im Sommer beliebt\, weil es gleichzeitig erfri
 schend und süß ist.\n\nEine Slush-Eis Maschine steht am verkaufsoffenen 
 Sonntag bei Heil2O direkt vor dem Fitness-Center Belle in der Kirchstraße
 .\nSlush-Eis entsteht in einer speziellen Maschine\, die eine Mischung aus
  Wasser\, Fruchtsirup oder Aroma und  Zucker.\n\n&nbsp\;\n\n\n\nBolande
 nschule\n\n\nDie Kinder der Klasse 2c backen Waffeln.\n\n\n&nbsp\;\n\n&nbs
 p\;\n\n\n\n\n\nKindergarten Wiesenwichtel\n\n\nKaffee und Kuchen\n\n&nbsp\
 ;\n\n&nbsp\;\n\n&nbsp\;\n\n&nbsp\;\n\n&nbsp\;\n\n&nbsp\;\n\n&nbsp\;\n\n\n\
 n\nTeilnehmende Geschäfte\nWildkräuterhexe\nProduktproben\nVerkauf von N
 aturprodukten\nAngebote für Kräuterkurse und Kräuterrundgänge\n\n\nIn 
 meinen Kräuterkursen und Kräuterrundgängen zeige ich\, wie heimische He
 ilkräuter erkannt\, verarbeitet und im Alltag angewendet werden können. 
 Es geht darum\, Sicherheit im Umgang mit den Pflanzen zu gewinnen und eige
 ne Produkte selbst herzustellen\, die zuhause weiter genutzt werden könne
 n.\nAlle Wildkräuterhexen-Produkte entstehen in Handarbeit und bestehen a
 us naturreinen Inhaltsstoffen. Ohne Konservierungsstoffe\, mit schonenden 
 Herstellungsverfahren und mit viel Sorgfalt ausgewählt. Die Zutaten sind 
 klar benannt\, verständlich erklärt und bewusst eingesetzt.\nDie Wildkr
 äuterhexe ist aus persönlicher Erfahrung\, aus Nähe zur Natur und aus F
 reude am Weitergeben entstanden. Für Menschen\, die Natur verstehen\, anw
 enden und bewusst in ihren Alltag integrieren möchten.\n\nHTB - Bustouris
 tik\n\n\nDie Unternehmen Baumann-Touristik und HTB-Bustouristik GmbH sind 
 am verkaufsoffenen Sonntag in Wiesental mit einem Informationsstand sowie 
 einem Bus vertreten.\n\nNutzen Sie die Gelegenheit\, uns an unserem Stand 
 zu besuchen und erhalten Sie spannende Einblicke in unsere modernen Fahrze
 uge. Unsere Experten stehen Ihnen zudem für eine kostenlose Beratung rund
  um das Thema Busreisen zur Verfügung.\n\nDarüber hinaus präsentieren w
 ir Ihnen unsere Reisen für das Jahr 2026. Die aktuellen Angebote aus unse
 rem Programm können Sie direkt vor Ort schnell und unkompliziert buchen.\
 n\nSelbstverständlich stellen wir Ihnen auch unseren neuen Katalog für 2
 026 zur Verfügung.\n\nLassen Sie sich inspirieren – Wir freuen uns dara
 uf\, Sie an unserem Beratungsstand am verkaufsoffenen Sonntag\, den 29.03.
 2026\, in Wiesental willkommen zu heißen.\n\nIhr Waghäuseler Busunterneh
 men\nHTB-Bustouristik GmbH\nMargot-Bruch-Ring 4    68753 Waghäusel\n\n0
 7254-4042153\n\nwww.baumann-touristik.de           www.htb-bustour
 istik.de\n\n\n\nElektro Mauk\nErleben Sie Kaffeegenuss HOT\, COLD &amp\; S
 WEET -\nKaffee in seiner ganzen Vielfalt\n\n\n\n\n\n&nbsp\;\nOnkel Mo\n\n\
 nBei uns gibt es dieses Mal:\n\nEssen:\n- leckere frisch gebackene Waffeln
 \n- Ofenkartoffeln mit Frühlingsquark\n\nTrinken:\n- spritziger Hugo\n- S
 ekt\n- Bier\n- verschiedene Saftschorlen\n\nAlles wie immer in bester Bioq
 ualität\n\n&nbsp\;\n\n\n\nAugenoptik Löffler\n\n\nPräsentation der GUES
 S Brillen und Sonnenbrillenkollektion mit 20% Rabatt.\nDie neuen Wechsel-B
 rillenbügel der Firma EYE-Maxx.\n20% Frühlingsfest-Rabatt.\nSehtests\, K
 ontaktlinsen- und Computerbrillen-Angebot\n\n\n\n\n\n\nguter rad shop\n\n\
 nWir sind in unseren Geschäftsräumen  Oberer Hagweg 16\, 68753 Waghäus
 el zu finden.\n\n\n\nFitnesscenter Belle\n\n\nFrühlingsspecial:\nIm April
  kostenfrei trainieren (bei einer Mitgliedschaft ab mind. 12 Monate) und k
 eine Aufnahmegebühr\n\nUm 15.00 Uhr eine kleine Show mit den Zumba Kids.\
 nKinderschminken bei Belle !\n\n\n\nFirma Heil2o\nInfo-Stand  : Heil2O - 
 Bautrocknung\n\n\n\n\nJenny Brecht Augenoptik &amp\; Sehwelten\n\n\n Tages
 angebot der Smartbrillen META der 2. Generation.\n\nDies sind smarte Brill
 en mit verbesserter 3K-Kamera (Fotos/Videos)\, integrierter KI\, besserem 
 Klang und doppelter Akkulaufzeit. Sie ermöglichen freihändiges Telefonie
 ren\, Musik Streaming über Open Ear Lautsprecher\, Live Übersetzungen un
 d das Teilen von Inhalten via WhatsApp Messenger. Die KI kann zudem Sehens
 würdigkeiten erklären oder beim Einkaufen helfen. Der Clou ist die mögl
 iche\, aber stärkenabhängige Verglasbarkeit. Modelle zum Testen sind vor
 handen.\n\n&nbsp\;\n\n&nbsp\;\n\n&nbsp\;\n\n&nbsp\;\n\n Zinzino Omega 3 Ba
 lance Test - nur 2 Tropfen Blut nötig. Statt 169 € nur 99 €.\n\nEr ve
 rrät uns etwas über den Zustand der Zellfluidität (wichtig für Nährs
 toffaustausch)\, über die 11 Fettsäuren\, stille Entzündungen und die m
 entale Stärke. Omega 3 ist wichtig für viele Funktionen\, es nimmt auch
  Einfluss auf das trockene Auge\, Muskulatur des Auges\, Hirnfunktion et
 c.\nErgänzend dazu gibt es auch noch den Darm-Test\, der auf die gleiche 
 Weise durchgeführt wird - mit nur 2 Tropfen Blut. Dieser gibt Aufschluss 
 darüber\, wie unser Darm funktioniert. Nicht wie beim typischen Stuhltest
 \, der nur die Anzahl der Bakterien feststellt.\n\nSie nehmen schon Produk
 te und wollen einfach nur wissen\, ob sie da ankommen\, wo sie gebraucht w
 erden? Oder ist es nur "teures PIPI"\, was sie produzieren?\n\nWir finden 
 es gemeinsam heraus!\n\n&nbsp\;\n20% auf ALLE vorhandenen Fassungen und So
 nnenbrillen.\nSpezielle Sonnenbrillen Angebote\n\nEinstärken wie Ferne od
 er Lesen in braun/grau/grün 85% -&gt\; ab 59 € je Paar\nGleitsicht in
   braun/grau/grün 85% -&gt\; ab 169 € je Paar\n\nAufpreise für Entspi
 egelung\, dünneres Glas oder Verspiegelung möglich!\n\n Kuchen Spenden V
 erkauf für den Freundeskreis e.V.  Bolanden Grundschule Wiesental\n\nEs 
 werden wie immer selbstgebackene Kuchen verkauft und frisch gebrühter Kaf
 fee nach Großmutters Art.\n\n1 Gedeck= 1 Kaffee und 1 St. Kuchen für 3\,
 50 €\n\nSelbstverständlich können Sie auch einfach nur Kuchen mitnehme
 n!\n\nWIR FREUEN UNS AUF SIE!\n\n\n\nRolling Rings\n\n\n\n\n&nbsp\;\n\n\n\
 nGlasprojekt\nUnsere Ganzglasanlagen setzen auf schlichte Schönheit und k
 lare Linienführung.  Egal\, ob Sie ein modernes Zuhause oder einen gesch
 äftlichen Raum gestalten – Ganzglasanlagen passen sich nahtlos Ihrem St
 il an. Wir beraten Sie gerne am verkaufsoffenen Sonntag in Wiesental.\n\n\
 n\n&nbsp\;\nIntegrative Kunst- und Musikschule\nAuch die Integrative Kunst
 - und Musikschule öffnet am Tag der offenen Tür ihre Pforten.\nFreuen Si
 e sich auf Kinderschminken\, kreative Bastelangebote und einen Flohmarkt.\
 n\nZudem können die Räumlichkeiten besichtigt und Einblicke hinter die K
 ulissen gewonnen werden.\nWir freuen uns auf Ihren Besuch.\n\n\n\n
CATEGORIES:HGV-Events,Verkaufsoffene Sonntage
LOCATION:Ortsmitte Wiesental\, Mannheimer Straße 17\, Waghäusel\, Baden-W
 ürttemberg\, 68753\, Deutschland
X-APPLE-STRUCTURED-LOCATION;VALUE=URI;X-ADDRESS=Mannheimer Straße 17\, Wag
 häusel\, Baden-Württemberg\, 68753\, Deutschland;X-APPLE-RADIUS=100;X-TI
 TLE=Ortsmitte Wiesental:geo:0,0
END:VEVENT
END:VCALENDAR