BEGIN:VCALENDAR
VERSION:2.0
PRODID:-//wp-events-plugin.com//7.2.3.1//EN
BEGIN:VEVENT
UID:8@hgv-wiesental.de
DTSTART:20140926T180000Z
DTEND:20140926T180000Z
DTSTAMP:20150209T061552Z
URL:https://www.hgv-wiesental.de/veranstaltungen/online-marketing-workshop
 /
SUMMARY:Online Marketing - Workshop
DESCRIPTION:Online-Marketing für Gewerbetreibende\n➡ Effektiv\n➡ Stra
 tegisch\n➡ Schritt-für-Schritt\n￼Google\, Social Media\, Twitter\, F
 acebook\, Email-Marketing\, Mobile Responsive Design und und und...\nFür
  Gewerbetreibende ist es auch im Jahr 2014 nicht einfacher geworden im Int
 ernet eine gute Figur zu machen. Dabei ist es wichtiger denn je\, zumal di
 e Nutzerzahlen im Netz steigen\, wohingegen die Absatzzahlen im gesamten P
 rint-Bereich nach wie vor rückläufig sind.\n\nDoch wo beginnen?\nIm Se
 minar erhalten Sie einen Einblick wie sich die 7 wichtigsten Marketing-Opt
 ionen für Gewerbetreibende sinnvoll in Einklang bringen lassen: und zwar
  Schritt-für-Schritt\, mit Hilfe des 4- Stufen-Prinzips für ganzheitli
 ches Online-Marketing. Stufe für Stufe dehnen Sie Ihre Webpräsenz weit
 er aus - und erreichen einen immer größeren Anteil Ihrer Zielgruppe. Im
  Seminar erhalten Sie konkrete Hilfestellungen wie Sie die Sichtbarkeit Ih
 res Unternehmens im Internet selbst Schritt-für-Schritt verbessern kön
 nen.\nVorteile des 3-Stufen-Prinzips für ganzheitliches Online-Marketing
 :\nVon Stufe zu Stufe steigt Ihre Präsenz im Netz: Sie erhalten mehr Sic
 htbarkeit\, mehr Wahrnehmung innerhalb Ihrer Zielgruppe und letztlich auch
  mehr Kontaktanfragen aus dem Web. Ihr Aufwand in Form von Zeit und Kosten
  bleibt überschaubar\, da jede Stufe kalkulierbare Anforderungen stellt.
 \n\nThemenüberblick:\n➡ Firma ins Netz bringen: Webportale und Social 
 Media\n➡ Effektive Website-Inhalte\, die Interessenten „abholen“\n
 ➡ Gezielt online gute Bewertungen erhalten\n➡ Gute Positionen in den l
 okalen Google-Ergebnissen\n➡ Der Neukunden-Motor: Google Adwords\n➡ An
 gebote effektiv bewerben mittels Email-Marketing und Facebook\n\n\nÜber 
 den Referenten:\nBenjamin Oechsler von benlocal Online Marketing (http://b
 enlocal.de) aus\nWaghäusel ist spezialisiert auf kosteneffiziente Online
 -Werbemaßnahmen und hilft Gewerbetreibenden dabei sich optimal im Interne
 t zu präsentieren. Kunden von benlocal steigern Ihre Markenbekanntheit u
 nd erhalten langfristig mehr Besucher und qualifizierte Kontaktanfragen au
 s dem Web.
ATTACH;FMTTYPE=image/jpeg:https://www.hgv-wiesental.de/wp-content/uploads/
 2015/02/wachstum.jpg
CATEGORIES:HGV-Events
LOCATION:DSZW\, Kirrlacher Str. 23\, Waghäusel\, 68753\, Deutschland
GEO:49.25136999999999;8.516759999999977
X-APPLE-STRUCTURED-LOCATION;VALUE=URI;X-ADDRESS=Kirrlacher Str. 23\, Waghä
 usel\, 68753\, Deutschland;X-APPLE-RADIUS=100;X-TITLE=DSZW:geo:49.25136999
 999999,8.516759999999977
END:VEVENT
END:VCALENDAR