BEGIN:VCALENDAR
VERSION:2.0
PRODID:-//wp-events-plugin.com//7.2.3.1//EN
BEGIN:VEVENT
UID:83@hgv-wiesental.de
DTSTART:20231001T120000Z
DTEND:20231001T170000Z
DTSTAMP:20230919T150658Z
URL:https://www.hgv-wiesental.de/veranstaltungen/herbstfest-2023-verkaufso
 ffener-sonntag/
SUMMARY:Herbstfest 2023- Verkaufsoffener Sonntag
DESCRIPTION:[tabs]\n\n[tab title="Grußwort"]\nVerkaufsoffener Sonntag am 1
 . Oktober 2023\n\n\nLiebe Kundinnen und Kunden\,\nliebe Bürgerinnen und B
 ürger und Gäste des Wiesentaler Herbstfestes\,\n\nMit dem Herbstfest 202
 3 schließt der Handwerk- und Gewerbeverein Wiesental sein 125-jähriges J
 ubiläumsjahr ab. Im Frühling hatten wir mit unserer großen Jubiläumsfe
 ier am 17.05.2023 den Höhepunkt unserer Jubiläumsaktionen und bildeten g
 leichzeitig den Auftakt des Festivals ZUCKER WAG &amp\; HÄUSEL. Hier durf
 ten wir nach dem verregneten Frühlingsfest\, rechtzeitig zum Programmbegi
 nn die ersten warmen Sonnenstrahlen genießen.\n\nMit Handicaps weiß der 
 HGV und seine Mitglieder umzugehen. Auch jetzt beim Herbstfest sind diese 
 anzutreffen. Die Arbeiten zur Neugestaltung der Mannheimer Straße sind in
  vollem Gange. Trotzdem kann der verkaufsoffene Sonntag am 1. Oktober plan
 mäßig stattfinden. Das Teilstück vom Marktplatz bis zum Parkplatz ist b
 is zum 1. Oktober noch nicht von den Bauarbeiten betroffen und das andere 
 Teilstück bis zur Kirche wird für Fußgänger problemlos zu durchqueren 
 sein.\n\nMit der Neugestaltung der Mannheimer Straße kommt auch ein neues
  Angebot der Stadt Waghäusel nach Wiesental. „Carsharing“.  Am verka
 ufsoffenen Sonntag werden Vertreter der Stadt auf dem Parkplatz in der Ort
 smitte erläutern was es damit auf sich hat\, wie dieser Service genutzt w
 erden kann und welche Vorteile sich durch dieses neue Angebot ergeben.\n\n
 Die Themen Energie-Wärme- und Verkehrswende sind schon immer Themen mit d
 enen sich der Solar-Verein Waghäusel befasst. Vertreter des Vereins sind 
 mit einem Informationsstand beim verkaufsoffenen Sonntag dabei und werden 
 schwerpunktmäßig Fragen zu den immer beliebter werdenden Balkonkraftwerk
 en beantworten. Aufstellung\, Montage\, Wirtschaftlichkeit und rechtliche 
 Fragen werden kompetent und neutral beraten.\n\nSinn und Zweck des verkauf
 soffenen Sonntags sind natürlich die geöffneten Geschäfte entlang der M
 annheimer Straße\, die mit vielen Aktionen und vielen Sonderangeboten ihr
 en Kunden mit Rat und Tat zur Verfügung stehen werden.\n\nVon Elektro Mau
 k\, am einen Ende der Einkaufsmeile\, lohnt sich der Sparziergang über di
 e Kerwe und gegenüber den Trauth-Hof Verkaufsladen zu Onkel Mo\, bei dem 
 es was Leckeres zu essen gibt. Goldschmiedemeisterin Alena Schuhmann\, die
  auch den Wissädala Sandhas als Schlüssel- oder Schmuckanhänger entworf
 en hat\, zeigt ihre neuen Kollektionen und gleich darauf stellt Augenoptik
  Löffler brandneue Brillenkollektionen vor. Direkt vor dem Übergang übe
 r die Baustelle führt Fotostudio Rosita seine mietbaren Fotoboxen für di
 e nächste Party vor. Fitness Center Belle und Sehwelten Augenoptik Brecht
  sorgen am anderen Ende der Mannheimer Straße mit einem Kuchenbuffet\, Ki
 nderschminken\, Fitnessvorführungen sowie einem Glücksrad für jede Meng
 e Spaß.\n\nIch wünsche Ihnen viel Spaß beim verkaufsoffenen Sonntag.\n\
 nPeter Bonsch\n1. Vorsitzender des\nHandwerk- und Gewerbevereins Wiesental
  e.V.\n\n[/tab]\n\n[tab title="125 Jahre HGV"]\n\n\n\nDer Handwerk- und Ge
 werbeverein Wiesental e. V. feiert in diesem Jahr sein 125-jähriges Beste
 hen.\n\nRückblende Jubiläumsfeier am 17. Mai 2023\n\n[metaslider id="477
 4"]\n\n[/tab]\n\n&nbsp\;\n\n[tab title="Themen-Schwerpunkte"]\nSolar-Verei
 n Waghäusel - Energiewende jetzt\nDer Solar-Verein Waghäusel wird in die
 sem Jahr 25 Jahre alt. Viele Projekte wurden in dieser Zeit realisiert und
  sehr viele Beratungsgespräche\, neutral und kostenfrei durchgeführt. In
  den vergangenen Jahren war der Solar-Verein auch schon öfters Gast beim 
 verkaufsoffenen Sonntag in Wiesental. Da gab es eine Stromwechselparty und
  auch beim Schwerpunktthema Elektromobilität hat sich der Verein stark en
 gagiert.\n\nÜber die Notwendigkeit von Solar-Anlagen müssen heute\, im G
 egensatz zu früher\, keine Diskussionen mehr geführt werden. Fragen übe
 r das wie? - was kostet das? und - lohnt sich das für mich? stehen heute 
 im Vordergrund.\n\nAuf dem Informationsstand werden alle Fragen der Fotovo
 ltaik und Solartechnik beantwortet.\n\nNeue Gesetze räumen Barrieren weg 
 und machen den Weg frei für die einfachere Nutzung von Balkon-Solaranlage
 n.\n\nHier liegt der Beratungsschwerpunkt am verkaufsoffenen Sonntag in Wi
 esental\, es geht um:\n\nAuswahl und Installation von Stecker-Solar-Gerät
 en für den Balkon\, die Garage oder ein Vordach oder eine Fassade\n\nErst
 beratung zu Installation von PV (Fotovoltaik) auf Hausdächern und anderen
  geeigneten Flächen\n\nAktueller Stand der Bundes-Förderungen und Erleic
 hterungen für Fotovoltaikanlagen auf Ein- und Mehrfamilienhäusern (EEG\,
  Steuer\, Zuschüsse\, Mieterstrom\,…)\n\n&nbsp\;\n\n[divider style="sin
 gle" border="small" color="#dd3333"]\nPlugin Solar\n\n&nbsp\;\n\nPlugInSol
 ar bietet Balkonkraftwerke und diverse Befestigungen an. Mit diesen System
 en kann nahezu jeder Haushalt kostengünstig Strom selbst produzieren und 
 selbst nutzen.\n\nVon einer aufwändigen Installation kann bei einem Klein
 kraftwerk abgesehen werden\, da jeder dazu in der Lage ist\, dieses selbst
  in Betrieb zu nehmen.\n\nWir betreiben die Abholstation in Waghäusel fü
 r die Firma Plug-In-Solar\, damit der Endkunde seine Ware schnell und unko
 mpliziert vor Ort begutachten\, abholen und gegebenenfalls auch vor Ort be
 zahlen kann.\n\n&nbsp\;\n\nAm verkaufsoffenen Sonntag beraten wir Interess
 enten vor Ort über diverse Befestigungsmöglichkeiten und verschiedene Sy
 steme.\n\n&nbsp\;\n\n&nbsp\;\n\n&nbsp\;\n\n&nbsp\;\n\n&nbsp\;\n\n&nbsp\;\n
 \n\n\n\n\n\n\n\n\n\n[divider style="single" border="small" color="#dd3333"
 ]\n\n\nCarsharing in Wiesental\n\n\nEin kleines Stück Verkehrswende ist j
 etzt in Wiesental angekommen. Genauer gesagt in allen drei Stadtteilen ste
 hen jetzt Elektrofahrzeuge als Carsharing Angebote zur Verfügung.\n\nWenn
  der Verkehr weniger werden soll\, der Individualverkehr in der Regel aber
  meistens die beste Alternative bleibt\, um ohne große Einschränkungen v
 on A nach B zu kommen\, müssen neue Verkehrskonzepte her. Hand auf Herz\,
  Ihr Fahrzeug ist doch auch eher ein "Stehzeug". Sie sind damit in guter G
 esellschaft\, denn im Durchschnitt stehen private PKW's 23 Stunden am Tag 
 nur rum. Wenn sich mehrere Benutzer ein Fahrzeug teilen\, wird nicht nur d
 er Verkehr und Umwelt entlastet\, es können im Idealfall bis zu 20 privat
 e PKW ersetzt werden.\n\nDie Handhabung ist einfach. Mit einer kostenlos e
 rhältlichen App bucht man ein Fahrzeug für einen bestimmten Zeitraum. Mi
 t dem Handy oder einer zeoCard öffnet man das Fahrzeug und los geht es.\n
 \nBeim verkaufsoffenen Sonntag in Wiesental können Sie sich ausführlich 
 über alle Fragen der Registrierung und die Bedienung von zeo carsharing E
 lektrofahrzeugen informieren. Im nördlichen Landkreis Karlsruhe ist diese
 s Angebot bereits schon an 72 Stellen nutzbar.\n\n&nbsp\;\n\n[divider styl
 e="single" border="small" color="#dd3333"]\n\n\n\n\n\n\n\n\n\n\n\n\nKosten
 loses Seniorenmobil der Stadt Waghäusel\nDer Seniorenbeirat der Stadt Wag
 häusel stellt beim verkaufsoffenen Sonntag am 1. Oktober einen neuen Serv
 ice der Stadt Waghäusel vor.\n\nMit dem kostenlosen Seniorenmobil erhalte
 n Bürger und  Bürgerinnen mit Mobilitätseinschränkungen ein Stück Fr
 eiheit für die Bewältigung ihres Lebensalltags.\n\n\n\n\n\n\n\n\n\n\n\n\
 n\n\n\nWohin kann man fahren?\nWir fahren Sie innerhalb der Waghäuseler S
 tadtgrenzen.\nSie werden an der Haustür abgeholt (gerne auch mit Begleitp
 erson)\, zur Zieladresse ge­bracht und wieder zur Wohnadresse zurück gef
 ahren.\nDie Fahrten sind kostenlos und werden von ehrenamtlichen Fahrerinn
 en und Fahrern durchgeführt.\n\nFahrzeiten\nDienstags: 08.00 Uhr bis 18.0
 0 Uhr\nDonnerstags: 08.00 Uhr bis 18.00 Uhr\nund nach Bedarf\n\n\n\n\nBeis
 piele für die Nutzung\n\n\n\n\n\n\n\n– Arztbesuche / Apotheken / Kranke
 ngymnastik / Therapien\n– Massage / Friseur/ Fußpflege\n– Termine im 
 Rathaus / Bürgerbüro / Stadtbibliothek\n– Seniorenheime / Seniorentref
 fen\n– private Besuche von Freunden und Verwandten\n– Einkäufe / Gene
 rationen-Treffpunkt WaWiki / Friedhof\n\nIhr direkter Draht zum Seniorenmo
 bil\nMelden Sie sich zur Fahrt an:\nJeden Mittwoch von 10.00 – 12.00 Uhr
  für Fahrten in der Folgewoche\n\nTelefon 07254-7820499\nGeschäftsstell
 e Notrufteam GmbH Waghäusel\n\n\n\n\n\n\n[/tab]\n\n[tab title="Teilnehmen
 de Geschäfte"]\nHeil2O\n\n\nBesuchen Sie unseren Stand bei Fitness-Center
  Belle\, Kirchstraße 1\n\nHeil2O Trocknungstechnik  Bahnhofstraße 36 \
 n\n[divider style="single" border="small" color="#dd3333"]\nJuwelier Gentn
 er/ Mamakind\n\nUnser Angebot zum verkaufsoffenen Sonntag\n10% aufs Sortim
 ent\n20% auf Echtgold Ohrstecker\n[metaslider id="4753"]\n\n&nbsp\;\nTrau 
 Dich..\n[metaslider id="4368"]\n&nbsp\;\n\nJuwelier Gentner und Mamakind\n
 Mannheimer Straße 23\n\n&nbsp\;\n\n[divider style="single" border="small"
  color="#dd3333"]\nTobias Herzog - Fotostudio Rosita\n\n\nDie wahren Stars
  auf DEINER Party!\n\nBei dem stylischen Fotobox Lineup von Fotostudio Ros
 ita ist für jede Feier und fast jedes Budget die perfekte Fotobox dabei!\
 n\nEs gibt kaum eine bessere Unterhaltung für Deine Gäste\, die sowohl d
 en ganz kleinen Gästen\, als auch den Älteren so viel Spaß zu einem bez
 ahlbaren Kurs bietet.\n\nOb Box zum selbst Abholen und Aufbauen für ganz 
 Preisbewusste\,\nBox mit All-Inclusive Service oder\ndie Box\, die Sofortb
 ilder in Sekundenschnelle ausspuckt.\n\nWir haben sie alle!\nSichere Dir d
 ieses Highlight für deine nächste Feier!\n\nÜberzeugen kannst Du dich v
 on unserem Service am Verkaufsoffenen Sonntag.\n\nBesuche uns am Stand und
  nimm gleich einen Rabattgutschein für deine Buchung mit!\n\nMehr Infos u
 nd Kontaktmöglichkeiten unter www.fotostudio-rosita.de\n\nTobias Herzog- 
 Fotostudio Rosita\, Bruckner Straße 1\n\n[divider style="single" border="
 small" color="#dd3333"]\nAugenoptik Löffler\n\n\n&nbsp\;\n\n&nbsp\;\n\nSe
 htest\, Augenprüfung\n\n20 % Kerwe-Rabatt auf vorrätige Brillenfassungen
 \n\nund  Vorstellung einer neuen Brillenkollektion: „Bellinger-House“
 \, ebenfalls mit 20% Rabatt nur an diesem Tag !\n\nQualitativ hochwertige 
 Brillen für Damen und Herren\, farbig und frisch.\n\n&nbsp\;\n\n&nbsp\;\n
 \n&nbsp\;\n\nAugenoptik Löffler Mannheimer Straße 17\n\n[divider style="
 single" border="small" color="#dd3333"]\n\n\nFitnesscenter Belle\n\n\nFitn
 esscenter Belle Kirchstraße 1\n\n[divider style="single" border="small" c
 olor="#dd3333"]\nOnkel Mo\n\n\nEs gibt wieder Zwiebelkuchen und neuen Wein
 .\n\nVor dem Laden gibt es im Pavillon Biergarnituren und Stehtische zum 
 verweilen.\n\nIm Laden zum verkaufsoffenen Sonntag - Sonderangebote und Ak
 tionen -\n\n&nbsp\;\n\nManheimer Straße 21\n\n[divider style="single" bor
 der="small" color="#dd3333"]\n\n&nbsp\;\nJenny Brecht Augenoptik &amp\; Se
 hwelten\n\nUnsere Aktionen im Überblick\n\n 	Brillenaustellung Fa. VonBo
 gen mit kompletter Kollektion\n 	Angebote auf Brillenfassungen\n 	Angebot
 e Transitionsgläser Einstärken und Gleitsicht (färben sich bei UV Lich
 t dunkel ein)\n 	Kaffee und Kuchen (auch to go) der komplette Erlös wird 
 der Tafel Waghäusel gespendet\n 	Liebscher &amp\; Bracht Therapeutin\n 	D
 er Graffiti-künstler Marco Billmaier mit seiner Live Vorführung - wie ei
 n Graffiti entsteht. Dies geht nur bei trockenem Wetter\n 	Das Glücksrad 
 - mit Hauptgewinn "Augengesundheits-Check" jeweils im wert von 79 €.\n\
 nBrillenaustellung der Firma von Bogen aus Deutschland\, die auch eine Eco
  Brillenlinie haben namens VonBogen green.\n\n[metaslider id="4916"]\n\n&n
 bsp\;\nHilfe bei Muskelverspannungen am Auge\n\n\nDurch unseren ganzheitli
 chen Ansatz empfehlen wir manchmal ja auch erst den Therapeuten eines ande
 ren Fachgebietes aufzusuchen - bevor eine Brille angefertigt wird.\n\nAm 1
 .10.23 haben wir eine Liebscher &amp\; Bracht Schmerz Therapeutin vor Ort.
  Anna Braun ist eine unserer Therapeuten\, wenn es auch ums Thema Muskelve
 rspannungen und das gute Sehen geht. Anna hat auch schon seit letztem Jahr
  Kurse im Angebot\, die sie im Fitnessstudio in der nördl. Waldstr. gibt.
 \nSolare Risiken\nDer Klimawandel lässt grüßen. Längere Hitzeperioden 
 sind längere und stärkere Sonneneinstrahlungen auf die Augen. Dies erfor
 dert mehr den je einen besseren Schutz. Aktuell zu diesen Themen zeigen wi
 r Brillen\, Sonnenbrillen und spezielle "Solar"/Sonne Angebote für Photot
 rope Brillengläser (in durch Sonneneinstrahlung  eintönen).\nGraffiti K
 ünstler Marco Billmaier\n\n\n&nbsp\;\n\nVon 15-18 Uhr ist der Graffiti-K
 ünstler\, Marco Billmaier aus Wiesloch\nin der Kirchstraße 1.\n\nEr spr
 üht bei trockenem Wetter live Graffiti.\n\nAußerdem bringt er noch ein 
 paar seiner beliebten Comic-Bilder mit\, welche auch an diesem Tag verkau
 ft werden.\n\nDer Erlös der Bilder kommt mit 50% dem "Kinderschutzraum" z
 ugute.\n\n&nbsp\;\n\nFotos Copyright by Marco Billmaier\n\n&nbsp\;\n\n&nbs
 p\;\n\n[metaslider id="4945"]\nGewinnspiel per Glücksrad\nHauptgewinn ist
  jeweils ein gr. Augengesundheits-check\n\n&nbsp\;\nUnser Empfangsteam Gee
 na und Julian\n\n\nauch zuständig für den Kuchenverkauf (selbstgebacken)
  als Spende für die Tafel.\n\n&nbsp\;\n\n&nbsp\;\n\n&nbsp\;\n\n&nbsp\;\n\
 n&nbsp\;\n\n&nbsp\;\n\n&nbsp\;\n\n&nbsp\;\n\nKirchstraße 2\n[divider styl
 e="single" border="small" color="#dd3333"]\n&nbsp\;\nElektro Mauk Hausger
 äte\nRabatte\, Aktionspreise zum verkaufsoffenen Sonntag\nMannheimer Stra
 ße 36\n\n[divider style="single" border="small" color="#dd3333"]\nTrauth-
 Hof\n\n\nDie beliebte Anlaufstelle für alle Produkte aus dem Geflügelhof
  und der Teigwarenmanufaktur.\n\nDer Trauth-Hof hat am verkaufsoffenen Son
 ntag seinen Laden in Wiesental geöffnet.\n\nMannheimer Straße 32\n\n&nbs
 p\;\n\n[/tab]\n\n[/tabs]\n\n
CATEGORIES:HGV-Events,Sonstige,Veranstaltungen von
 Mitgliedern,Verkaufsoffene Sonntage
END:VEVENT
END:VCALENDAR